BEGIN:VCALENDAR
VERSION:2.0
PRODID:-//Health Equity - ECPv6.15.20//NONSGML v1.0//EN
CALSCALE:GREGORIAN
METHOD:PUBLISH
X-WR-CALNAME:Health Equity
X-ORIGINAL-URL:https://www.vdh.virginia.gov/health-equity
X-WR-CALDESC:Events for Health Equity
REFRESH-INTERVAL;VALUE=DURATION:PT1H
X-Robots-Tag:noindex
X-PUBLISHED-TTL:PT1H
BEGIN:VTIMEZONE
TZID:America/New_York
BEGIN:DAYLIGHT
TZOFFSETFROM:-0500
TZOFFSETTO:-0400
TZNAME:EDT
DTSTART:20230312T070000
END:DAYLIGHT
BEGIN:STANDARD
TZOFFSETFROM:-0400
TZOFFSETTO:-0500
TZNAME:EST
DTSTART:20231105T060000
END:STANDARD
BEGIN:DAYLIGHT
TZOFFSETFROM:-0500
TZOFFSETTO:-0400
TZNAME:EDT
DTSTART:20240310T070000
END:DAYLIGHT
BEGIN:STANDARD
TZOFFSETFROM:-0400
TZOFFSETTO:-0500
TZNAME:EST
DTSTART:20241103T060000
END:STANDARD
BEGIN:DAYLIGHT
TZOFFSETFROM:-0500
TZOFFSETTO:-0400
TZNAME:EDT
DTSTART:20250309T070000
END:DAYLIGHT
BEGIN:STANDARD
TZOFFSETFROM:-0400
TZOFFSETTO:-0500
TZNAME:EST
DTSTART:20251102T060000
END:STANDARD
END:VTIMEZONE
BEGIN:VEVENT
DTSTART;TZID=America/New_York:20240409T113000
DTEND;TZID=America/New_York:20240409T113000
DTSTAMP:20260423T221407
CREATED:20240521T142350Z
LAST-MODIFIED:20240521T142350Z
UID:7330-1712662200-1712662200@www.vdh.virginia.gov
SUMMARY:Waymakers Resource Fair
DESCRIPTION:
URL:https://www.vdh.virginia.gov/health-equity/event/waymakers-resource-fair/
LOCATION:VA
END:VEVENT
BEGIN:VEVENT
DTSTART;TZID=America/New_York:20240409T130000
DTEND;TZID=America/New_York:20240409T130000
DTSTAMP:20260423T221407
CREATED:20240521T142620Z
LAST-MODIFIED:20240521T142620Z
UID:7379-1712667600-1712667600@www.vdh.virginia.gov
SUMMARY:Chair Exercise - Xodus 3 Community Development Corp.
DESCRIPTION:
URL:https://www.vdh.virginia.gov/health-equity/event/chair-exercise-xodus-3-community-development-corp-3/
LOCATION:VA
END:VEVENT
BEGIN:VEVENT
DTSTART;TZID=America/New_York:20240409T180000
DTEND;TZID=America/New_York:20240409T180000
DTSTAMP:20260423T221407
CREATED:20240521T142536Z
LAST-MODIFIED:20240521T142536Z
UID:7365-1712685600-1712685600@www.vdh.virginia.gov
SUMMARY:She Can STEM: Butterfly Village - You Need To Know Ministries
DESCRIPTION:
URL:https://www.vdh.virginia.gov/health-equity/event/she-can-stem-butterfly-village-you-need-to-know-ministries-2/
LOCATION:VA
END:VEVENT
END:VCALENDAR