BEGIN:VCALENDAR
VERSION:2.0
PRODID:-//Health Equity - ECPv6.15.20//NONSGML v1.0//EN
CALSCALE:GREGORIAN
METHOD:PUBLISH
X-WR-CALNAME:Health Equity
X-ORIGINAL-URL:https://www.vdh.virginia.gov/health-equity
X-WR-CALDESC:Events for Health Equity
REFRESH-INTERVAL;VALUE=DURATION:PT1H
X-Robots-Tag:noindex
X-PUBLISHED-TTL:PT1H
BEGIN:VTIMEZONE
TZID:America/New_York
BEGIN:DAYLIGHT
TZOFFSETFROM:-0500
TZOFFSETTO:-0400
TZNAME:EDT
DTSTART:20230312T070000
END:DAYLIGHT
BEGIN:STANDARD
TZOFFSETFROM:-0400
TZOFFSETTO:-0500
TZNAME:EST
DTSTART:20231105T060000
END:STANDARD
BEGIN:DAYLIGHT
TZOFFSETFROM:-0500
TZOFFSETTO:-0400
TZNAME:EDT
DTSTART:20240310T070000
END:DAYLIGHT
BEGIN:STANDARD
TZOFFSETFROM:-0400
TZOFFSETTO:-0500
TZNAME:EST
DTSTART:20241103T060000
END:STANDARD
BEGIN:DAYLIGHT
TZOFFSETFROM:-0500
TZOFFSETTO:-0400
TZNAME:EDT
DTSTART:20250309T070000
END:DAYLIGHT
BEGIN:STANDARD
TZOFFSETFROM:-0400
TZOFFSETTO:-0500
TZNAME:EST
DTSTART:20251102T060000
END:STANDARD
END:VTIMEZONE
BEGIN:VEVENT
DTSTART;TZID=America/New_York:20240413T100000
DTEND;TZID=America/New_York:20240413T100000
DTSTAMP:20260423T235550
CREATED:20240521T142220Z
LAST-MODIFIED:20240521T142220Z
UID:7299-1713002400-1713002400@www.vdh.virginia.gov
SUMMARY:Food Distribution - The Brandermill Church
DESCRIPTION:
URL:https://www.vdh.virginia.gov/health-equity/event/food-distribution-the-brandermill-church-2/
LOCATION:VA
END:VEVENT
BEGIN:VEVENT
DTSTART;TZID=America/New_York:20240413T100000
DTEND;TZID=America/New_York:20240413T100000
DTSTAMP:20260423T235550
CREATED:20240521T142450Z
LAST-MODIFIED:20240521T142450Z
UID:7350-1713002400-1713002400@www.vdh.virginia.gov
SUMMARY:Can We Talk Ages 12-17 - Herald House Community Church
DESCRIPTION:
URL:https://www.vdh.virginia.gov/health-equity/event/can-we-talk-ages-12-17-herald-house-community-church/
LOCATION:VA
END:VEVENT
BEGIN:VEVENT
DTSTART;TZID=America/New_York:20240413T110000
DTEND;TZID=America/New_York:20240413T110000
DTSTAMP:20260423T235550
CREATED:20240521T142504Z
LAST-MODIFIED:20240521T142504Z
UID:7352-1713006000-1713006000@www.vdh.virginia.gov
SUMMARY:Art and Nature Based Seminars and Activities - FreeHorse Art's
DESCRIPTION:
URL:https://www.vdh.virginia.gov/health-equity/event/art-and-nature-based-seminars-and-activities-freehorse-arts-2/
LOCATION:VA
END:VEVENT
BEGIN:VEVENT
DTSTART;TZID=America/New_York:20240413T120000
DTEND;TZID=America/New_York:20240413T120000
DTSTAMP:20260423T235550
CREATED:20240521T142450Z
LAST-MODIFIED:20240521T142450Z
UID:7351-1713009600-1713009600@www.vdh.virginia.gov
SUMMARY:Art and Nature Based Seminars and Activities - FreeHorse Art's
DESCRIPTION:
URL:https://www.vdh.virginia.gov/health-equity/event/art-and-nature-based-seminars-and-activities-freehorse-arts/
LOCATION:VA
END:VEVENT
END:VCALENDAR