BEGIN:VCALENDAR
VERSION:2.0
PRODID:-//Health Equity - ECPv6.15.20//NONSGML v1.0//EN
CALSCALE:GREGORIAN
METHOD:PUBLISH
X-WR-CALNAME:Health Equity
X-ORIGINAL-URL:https://www.vdh.virginia.gov/health-equity
X-WR-CALDESC:Events for Health Equity
REFRESH-INTERVAL;VALUE=DURATION:PT1H
X-Robots-Tag:noindex
X-PUBLISHED-TTL:PT1H
BEGIN:VTIMEZONE
TZID:America/New_York
BEGIN:DAYLIGHT
TZOFFSETFROM:-0500
TZOFFSETTO:-0400
TZNAME:EDT
DTSTART:20230312T070000
END:DAYLIGHT
BEGIN:STANDARD
TZOFFSETFROM:-0400
TZOFFSETTO:-0500
TZNAME:EST
DTSTART:20231105T060000
END:STANDARD
BEGIN:DAYLIGHT
TZOFFSETFROM:-0500
TZOFFSETTO:-0400
TZNAME:EDT
DTSTART:20240310T070000
END:DAYLIGHT
BEGIN:STANDARD
TZOFFSETFROM:-0400
TZOFFSETTO:-0500
TZNAME:EST
DTSTART:20241103T060000
END:STANDARD
BEGIN:DAYLIGHT
TZOFFSETFROM:-0500
TZOFFSETTO:-0400
TZNAME:EDT
DTSTART:20250309T070000
END:DAYLIGHT
BEGIN:STANDARD
TZOFFSETFROM:-0400
TZOFFSETTO:-0500
TZNAME:EST
DTSTART:20251102T060000
END:STANDARD
END:VTIMEZONE
BEGIN:VEVENT
DTSTART;TZID=America/New_York:20240418T100000
DTEND;TZID=America/New_York:20240418T100000
DTSTAMP:20260424T013725
CREATED:20240521T142704Z
LAST-MODIFIED:20240521T142704Z
UID:7392-1713434400-1713434400@www.vdh.virginia.gov
SUMMARY:Literacy Lab - Bethel Church of God in Christ
DESCRIPTION:
URL:https://www.vdh.virginia.gov/health-equity/event/literacy-lab-bethel-church-of-god-in-christ-6/
LOCATION:VA
END:VEVENT
BEGIN:VEVENT
DTSTART;TZID=America/New_York:20240418T130000
DTEND;TZID=America/New_York:20240418T130000
DTSTAMP:20260424T013725
CREATED:20240521T142634Z
LAST-MODIFIED:20240521T142634Z
UID:7382-1713445200-1713445200@www.vdh.virginia.gov
SUMMARY:Chair Exercise - Xodus 3 Community Development Corp.
DESCRIPTION:
URL:https://www.vdh.virginia.gov/health-equity/event/chair-exercise-xodus-3-community-development-corp-6/
LOCATION:VA
END:VEVENT
BEGIN:VEVENT
DTSTART;TZID=America/New_York:20240418T183000
DTEND;TZID=America/New_York:20240418T183000
DTSTAMP:20260424T013725
CREATED:20240521T142350Z
LAST-MODIFIED:20240521T142350Z
UID:7329-1713465000-1713465000@www.vdh.virginia.gov
SUMMARY:God's Anointed Touch - A.C.E.S Advancement with Cooking\, Exercise\, and Sewing
DESCRIPTION:
URL:https://www.vdh.virginia.gov/health-equity/event/gods-anointed-touch-a-c-e-s-advancement-with-cooking-exercise-and-sewing/
LOCATION:VA
END:VEVENT
END:VCALENDAR