BEGIN:VCALENDAR
VERSION:2.0
PRODID:-//Health Equity - ECPv6.15.20//NONSGML v1.0//EN
CALSCALE:GREGORIAN
METHOD:PUBLISH
X-WR-CALNAME:Health Equity
X-ORIGINAL-URL:https://www.vdh.virginia.gov/health-equity
X-WR-CALDESC:Events for Health Equity
REFRESH-INTERVAL;VALUE=DURATION:PT1H
X-Robots-Tag:noindex
X-PUBLISHED-TTL:PT1H
BEGIN:VTIMEZONE
TZID:America/New_York
BEGIN:DAYLIGHT
TZOFFSETFROM:-0500
TZOFFSETTO:-0400
TZNAME:EDT
DTSTART:20230312T070000
END:DAYLIGHT
BEGIN:STANDARD
TZOFFSETFROM:-0400
TZOFFSETTO:-0500
TZNAME:EST
DTSTART:20231105T060000
END:STANDARD
BEGIN:DAYLIGHT
TZOFFSETFROM:-0500
TZOFFSETTO:-0400
TZNAME:EDT
DTSTART:20240310T070000
END:DAYLIGHT
BEGIN:STANDARD
TZOFFSETFROM:-0400
TZOFFSETTO:-0500
TZNAME:EST
DTSTART:20241103T060000
END:STANDARD
BEGIN:DAYLIGHT
TZOFFSETFROM:-0500
TZOFFSETTO:-0400
TZNAME:EDT
DTSTART:20250309T070000
END:DAYLIGHT
BEGIN:STANDARD
TZOFFSETFROM:-0400
TZOFFSETTO:-0500
TZNAME:EST
DTSTART:20251102T060000
END:STANDARD
END:VTIMEZONE
BEGIN:VEVENT
DTSTART;TZID=America/New_York:20240522T100000
DTEND;TZID=America/New_York:20240522T100000
DTSTAMP:20260423T170712
CREATED:20240521T142721Z
LAST-MODIFIED:20240521T150949Z
UID:7401-1716372000-1716372000@www.vdh.virginia.gov
SUMMARY:Literacy Lab - Bethel Church of God in Christ
DESCRIPTION:
URL:https://www.vdh.virginia.gov/health-equity/event/literacy-lab-bethel-church-of-god-in-christ-15/
LOCATION:VA
END:VEVENT
BEGIN:VEVENT
DTSTART;TZID=America/New_York:20240522T173000
DTEND;TZID=America/New_York:20240522T173000
DTSTAMP:20260423T170712
CREATED:20240521T142420Z
LAST-MODIFIED:20240521T142420Z
UID:7338-1716399000-1716399000@www.vdh.virginia.gov
SUMMARY:It's All About Youth - St. John COGIC
DESCRIPTION:
URL:https://www.vdh.virginia.gov/health-equity/event/its-all-about-youth-st-john-cogic-8/
LOCATION:VA
END:VEVENT
BEGIN:VEVENT
DTSTART;TZID=America/New_York:20240522T180000
DTEND;TZID=America/New_York:20240522T180000
DTSTAMP:20260423T170712
CREATED:20240521T142519Z
LAST-MODIFIED:20240521T142519Z
UID:7357-1716400800-1716400800@www.vdh.virginia.gov
SUMMARY:It's All About Youth - St. John COGIC
DESCRIPTION:
URL:https://www.vdh.virginia.gov/health-equity/event/its-all-about-youth-st-john-cogic-20/
LOCATION:VA
END:VEVENT
END:VCALENDAR