BEGIN:VCALENDAR
VERSION:2.0
PRODID:-//Health Equity - ECPv6.15.20//NONSGML v1.0//EN
CALSCALE:GREGORIAN
METHOD:PUBLISH
X-WR-CALNAME:Health Equity
X-ORIGINAL-URL:https://www.vdh.virginia.gov/health-equity
X-WR-CALDESC:Events for Health Equity
REFRESH-INTERVAL;VALUE=DURATION:PT1H
X-Robots-Tag:noindex
X-PUBLISHED-TTL:PT1H
BEGIN:VTIMEZONE
TZID:America/New_York
BEGIN:DAYLIGHT
TZOFFSETFROM:-0500
TZOFFSETTO:-0400
TZNAME:EDT
DTSTART:20230312T070000
END:DAYLIGHT
BEGIN:STANDARD
TZOFFSETFROM:-0400
TZOFFSETTO:-0500
TZNAME:EST
DTSTART:20231105T060000
END:STANDARD
BEGIN:DAYLIGHT
TZOFFSETFROM:-0500
TZOFFSETTO:-0400
TZNAME:EDT
DTSTART:20240310T070000
END:DAYLIGHT
BEGIN:STANDARD
TZOFFSETFROM:-0400
TZOFFSETTO:-0500
TZNAME:EST
DTSTART:20241103T060000
END:STANDARD
BEGIN:DAYLIGHT
TZOFFSETFROM:-0500
TZOFFSETTO:-0400
TZNAME:EDT
DTSTART:20250309T070000
END:DAYLIGHT
BEGIN:STANDARD
TZOFFSETFROM:-0400
TZOFFSETTO:-0500
TZNAME:EST
DTSTART:20251102T060000
END:STANDARD
END:VTIMEZONE
BEGIN:VEVENT
DTSTART;TZID=America/New_York:20240612T170000
DTEND;TZID=America/New_York:20240612T170000
DTSTAMP:20260423T221408
CREATED:20240731T195054Z
LAST-MODIFIED:20240731T195054Z
UID:7610-1718211600-1718211600@www.vdh.virginia.gov
SUMMARY:Food Distribution - Bethel Church of God in Christ
DESCRIPTION:
URL:https://www.vdh.virginia.gov/health-equity/event/food-distribution-bethel-church-of-god-in-christ-7/
LOCATION:VA
END:VEVENT
BEGIN:VEVENT
DTSTART;TZID=America/New_York:20240612T173000
DTEND;TZID=America/New_York:20240612T173000
DTSTAMP:20260423T221408
CREATED:20240521T142420Z
LAST-MODIFIED:20240731T194909Z
UID:7341-1718213400-1718213400@www.vdh.virginia.gov
SUMMARY:It's All About Youth - St. John COGIC
DESCRIPTION:
URL:https://www.vdh.virginia.gov/health-equity/event/its-all-about-youth-st-john-cogic-11/
LOCATION:VA
END:VEVENT
BEGIN:VEVENT
DTSTART;TZID=America/New_York:20240612T180000
DTEND;TZID=America/New_York:20240612T180000
DTSTAMP:20260423T221408
CREATED:20240521T142535Z
LAST-MODIFIED:20240731T194940Z
UID:7362-1718215200-1718215200@www.vdh.virginia.gov
SUMMARY:It's All About Youth - St. John COGIC
DESCRIPTION:
URL:https://www.vdh.virginia.gov/health-equity/event/its-all-about-youth-st-john-cogic-25/
LOCATION:VA
END:VEVENT
END:VCALENDAR