BEGIN:VCALENDAR
VERSION:2.0
PRODID:-//Health Equity - ECPv6.15.20//NONSGML v1.0//EN
CALSCALE:GREGORIAN
METHOD:PUBLISH
X-WR-CALNAME:Health Equity
X-ORIGINAL-URL:https://www.vdh.virginia.gov/health-equity
X-WR-CALDESC:Events for Health Equity
REFRESH-INTERVAL;VALUE=DURATION:PT1H
X-Robots-Tag:noindex
X-PUBLISHED-TTL:PT1H
BEGIN:VTIMEZONE
TZID:America/New_York
BEGIN:DAYLIGHT
TZOFFSETFROM:-0500
TZOFFSETTO:-0400
TZNAME:EDT
DTSTART:20230312T070000
END:DAYLIGHT
BEGIN:STANDARD
TZOFFSETFROM:-0400
TZOFFSETTO:-0500
TZNAME:EST
DTSTART:20231105T060000
END:STANDARD
BEGIN:DAYLIGHT
TZOFFSETFROM:-0500
TZOFFSETTO:-0400
TZNAME:EDT
DTSTART:20240310T070000
END:DAYLIGHT
BEGIN:STANDARD
TZOFFSETFROM:-0400
TZOFFSETTO:-0500
TZNAME:EST
DTSTART:20241103T060000
END:STANDARD
BEGIN:DAYLIGHT
TZOFFSETFROM:-0500
TZOFFSETTO:-0400
TZNAME:EDT
DTSTART:20250309T070000
END:DAYLIGHT
BEGIN:STANDARD
TZOFFSETFROM:-0400
TZOFFSETTO:-0500
TZNAME:EST
DTSTART:20251102T060000
END:STANDARD
END:VTIMEZONE
BEGIN:VEVENT
DTSTART;TZID=America/New_York:20240803T080000
DTEND;TZID=America/New_York:20240803T080000
DTSTAMP:20260423T005309
CREATED:20240731T194809Z
LAST-MODIFIED:20240731T195240Z
UID:7557-1722672000-1722672000@www.vdh.virginia.gov
SUMMARY:Broad Rock Farmers Market - Second Baptist Church
DESCRIPTION:
URL:https://www.vdh.virginia.gov/health-equity/event/broad-rock-farmers-market-second-baptist-church-7/
LOCATION:VA
END:VEVENT
BEGIN:VEVENT
DTSTART;TZID=America/New_York:20240803T093000
DTEND;TZID=America/New_York:20240803T093000
DTSTAMP:20260423T005309
CREATED:20240731T195039Z
LAST-MODIFIED:20240731T195039Z
UID:7605-1722677400-1722677400@www.vdh.virginia.gov
SUMMARY:16th Annual Citywide Back to School Rally
DESCRIPTION:
URL:https://www.vdh.virginia.gov/health-equity/event/16th-annual-citywide-back-to-school-rally/
LOCATION:VA
END:VEVENT
BEGIN:VEVENT
DTSTART;TZID=America/New_York:20240803T100000
DTEND;TZID=America/New_York:20240803T100000
DTSTAMP:20260423T005309
CREATED:20240731T194839Z
LAST-MODIFIED:20240731T194839Z
UID:7568-1722679200-1722679200@www.vdh.virginia.gov
SUMMARY:Whole Soul Food Program - Disciples of Christ Fellowship Ministries
DESCRIPTION:
URL:https://www.vdh.virginia.gov/health-equity/event/whole-soul-food-program-disciples-of-christ-fellowship-ministries-15/
LOCATION:VA
END:VEVENT
BEGIN:VEVENT
DTSTART;TZID=America/New_York:20240803T100000
DTEND;TZID=America/New_York:20240803T100000
DTSTAMP:20260423T005309
CREATED:20240731T195025Z
LAST-MODIFIED:20240731T195025Z
UID:7602-1722679200-1722679200@www.vdh.virginia.gov
SUMMARY:BBC Annual Community Health and Wellness Fair
DESCRIPTION:
URL:https://www.vdh.virginia.gov/health-equity/event/bbc-annual-community-health-and-wellness-fair/
LOCATION:VA
END:VEVENT
BEGIN:VEVENT
DTSTART;TZID=America/New_York:20240803T100000
DTEND;TZID=America/New_York:20240803T100000
DTSTAMP:20260423T005309
CREATED:20240731T195025Z
LAST-MODIFIED:20240731T195025Z
UID:7603-1722679200-1722679200@www.vdh.virginia.gov
SUMMARY:Healing Faith Ministries Back to School Vaccination
DESCRIPTION:
URL:https://www.vdh.virginia.gov/health-equity/event/healing-faith-ministries-back-to-school-vaccination/
LOCATION:VA
END:VEVENT
END:VCALENDAR