BEGIN:VCALENDAR
VERSION:2.0
PRODID:-//Health Equity - ECPv6.15.20//NONSGML v1.0//EN
CALSCALE:GREGORIAN
METHOD:PUBLISH
X-WR-CALNAME:Health Equity
X-ORIGINAL-URL:https://www.vdh.virginia.gov/health-equity
X-WR-CALDESC:Events for Health Equity
REFRESH-INTERVAL;VALUE=DURATION:PT1H
X-Robots-Tag:noindex
X-PUBLISHED-TTL:PT1H
BEGIN:VTIMEZONE
TZID:America/New_York
BEGIN:DAYLIGHT
TZOFFSETFROM:-0500
TZOFFSETTO:-0400
TZNAME:EDT
DTSTART:20230312T070000
END:DAYLIGHT
BEGIN:STANDARD
TZOFFSETFROM:-0400
TZOFFSETTO:-0500
TZNAME:EST
DTSTART:20231105T060000
END:STANDARD
BEGIN:DAYLIGHT
TZOFFSETFROM:-0500
TZOFFSETTO:-0400
TZNAME:EDT
DTSTART:20240310T070000
END:DAYLIGHT
BEGIN:STANDARD
TZOFFSETFROM:-0400
TZOFFSETTO:-0500
TZNAME:EST
DTSTART:20241103T060000
END:STANDARD
BEGIN:DAYLIGHT
TZOFFSETFROM:-0500
TZOFFSETTO:-0400
TZNAME:EDT
DTSTART:20250309T070000
END:DAYLIGHT
BEGIN:STANDARD
TZOFFSETFROM:-0400
TZOFFSETTO:-0500
TZNAME:EST
DTSTART:20251102T060000
END:STANDARD
END:VTIMEZONE
BEGIN:VEVENT
DTSTART;TZID=America/New_York:20240928T080000
DTEND;TZID=America/New_York:20240928T080000
DTSTAMP:20260423T141227
CREATED:20240731T195310Z
LAST-MODIFIED:20240731T195310Z
UID:7657-1727510400-1727510400@www.vdh.virginia.gov
SUMMARY:Broad Rock Farmers Market - Second Baptist Church
DESCRIPTION:
URL:https://www.vdh.virginia.gov/health-equity/event/broad-rock-farmers-market-second-baptist-church-15/
LOCATION:VA
END:VEVENT
BEGIN:VEVENT
DTSTART;TZID=America/New_York:20240928T080000
DTEND;TZID=America/New_York:20240928T120000
DTSTAMP:20260423T141227
CREATED:20241017T182214Z
LAST-MODIFIED:20241017T182214Z
UID:7868-1727510400-1727524800@www.vdh.virginia.gov
SUMMARY:Broad Rock Farmers Market - Second Baptist Church
DESCRIPTION:
URL:https://www.vdh.virginia.gov/health-equity/event/broad-rock-farmers-market-second-baptist-church-19/
LOCATION:VA
END:VEVENT
BEGIN:VEVENT
DTSTART;TZID=America/New_York:20240928T100000
DTEND;TZID=America/New_York:20240928T140000
DTSTAMP:20260423T141227
CREATED:20241017T182045Z
LAST-MODIFIED:20241017T182045Z
UID:7840-1727517600-1727532000@www.vdh.virginia.gov
SUMMARY:Real Life Ministries COGIC - Community Appreciation Day
DESCRIPTION:
URL:https://www.vdh.virginia.gov/health-equity/event/real-life-ministries-cogic-community-appreciation-day/
LOCATION:VA
END:VEVENT
END:VCALENDAR