BEGIN:VCALENDAR
VERSION:2.0
PRODID:-//Health Equity - ECPv6.15.20//NONSGML v1.0//EN
CALSCALE:GREGORIAN
METHOD:PUBLISH
X-WR-CALNAME:Health Equity
X-ORIGINAL-URL:https://www.vdh.virginia.gov/health-equity
X-WR-CALDESC:Events for Health Equity
REFRESH-INTERVAL;VALUE=DURATION:PT1H
X-Robots-Tag:noindex
X-PUBLISHED-TTL:PT1H
BEGIN:VTIMEZONE
TZID:America/New_York
BEGIN:DAYLIGHT
TZOFFSETFROM:-0500
TZOFFSETTO:-0400
TZNAME:EDT
DTSTART:20230312T070000
END:DAYLIGHT
BEGIN:STANDARD
TZOFFSETFROM:-0400
TZOFFSETTO:-0500
TZNAME:EST
DTSTART:20231105T060000
END:STANDARD
BEGIN:DAYLIGHT
TZOFFSETFROM:-0500
TZOFFSETTO:-0400
TZNAME:EDT
DTSTART:20240310T070000
END:DAYLIGHT
BEGIN:STANDARD
TZOFFSETFROM:-0400
TZOFFSETTO:-0500
TZNAME:EST
DTSTART:20241103T060000
END:STANDARD
BEGIN:DAYLIGHT
TZOFFSETFROM:-0500
TZOFFSETTO:-0400
TZNAME:EDT
DTSTART:20250309T070000
END:DAYLIGHT
BEGIN:STANDARD
TZOFFSETFROM:-0400
TZOFFSETTO:-0500
TZNAME:EST
DTSTART:20251102T060000
END:STANDARD
END:VTIMEZONE
BEGIN:VEVENT
DTSTART;TZID=America/New_York:20241005T080000
DTEND;TZID=America/New_York:20241005T120000
DTSTAMP:20260422T231253
CREATED:20241017T182215Z
LAST-MODIFIED:20241017T182558Z
UID:7869-1728115200-1728129600@www.vdh.virginia.gov
SUMMARY:Broad Rock Farmers Market - Second Baptist Church
DESCRIPTION:
URL:https://www.vdh.virginia.gov/health-equity/event/broad-rock-farmers-market-second-baptist-church-20/
LOCATION:VA
END:VEVENT
BEGIN:VEVENT
DTSTART;TZID=America/New_York:20241005T090000
DTEND;TZID=America/New_York:20241005T120000
DTSTAMP:20260422T231253
CREATED:20241017T182059Z
LAST-MODIFIED:20241017T182059Z
UID:7842-1728118800-1728129600@www.vdh.virginia.gov
SUMMARY:Healthy Churches Coalition Meeting - NSU
DESCRIPTION:
URL:https://www.vdh.virginia.gov/health-equity/event/healthy-churches-coalition-meeting-nsu/
LOCATION:VA
END:VEVENT
BEGIN:VEVENT
DTSTART;TZID=America/New_York:20241005T100000
DTEND;TZID=America/New_York:20241005T130000
DTSTAMP:20260422T231253
CREATED:20241017T182044Z
LAST-MODIFIED:20241017T182044Z
UID:7839-1728122400-1728133200@www.vdh.virginia.gov
SUMMARY:Latinos in Virginia Empowerment Center Resource Fair and Food Distribution
DESCRIPTION:
URL:https://www.vdh.virginia.gov/health-equity/event/latinos-in-virginia-empowerment-center-resource-fair-and-food-distribution/
LOCATION:VA
END:VEVENT
END:VCALENDAR