BEGIN:VCALENDAR
VERSION:2.0
PRODID:-//Health Equity - ECPv6.15.20//NONSGML v1.0//EN
CALSCALE:GREGORIAN
METHOD:PUBLISH
X-WR-CALNAME:Health Equity
X-ORIGINAL-URL:https://www.vdh.virginia.gov/health-equity
X-WR-CALDESC:Events for Health Equity
REFRESH-INTERVAL;VALUE=DURATION:PT1H
X-Robots-Tag:noindex
X-PUBLISHED-TTL:PT1H
BEGIN:VTIMEZONE
TZID:America/New_York
BEGIN:DAYLIGHT
TZOFFSETFROM:-0500
TZOFFSETTO:-0400
TZNAME:EDT
DTSTART:20230312T070000
END:DAYLIGHT
BEGIN:STANDARD
TZOFFSETFROM:-0400
TZOFFSETTO:-0500
TZNAME:EST
DTSTART:20231105T060000
END:STANDARD
BEGIN:DAYLIGHT
TZOFFSETFROM:-0500
TZOFFSETTO:-0400
TZNAME:EDT
DTSTART:20240310T070000
END:DAYLIGHT
BEGIN:STANDARD
TZOFFSETFROM:-0400
TZOFFSETTO:-0500
TZNAME:EST
DTSTART:20241103T060000
END:STANDARD
BEGIN:DAYLIGHT
TZOFFSETFROM:-0500
TZOFFSETTO:-0400
TZNAME:EDT
DTSTART:20250309T070000
END:DAYLIGHT
BEGIN:STANDARD
TZOFFSETFROM:-0400
TZOFFSETTO:-0500
TZNAME:EST
DTSTART:20251102T060000
END:STANDARD
END:VTIMEZONE
BEGIN:VEVENT
DTSTART;TZID=America/New_York:20241011T100000
DTEND;TZID=America/New_York:20241011T160000
DTSTAMP:20260423T012650
CREATED:20241017T182030Z
LAST-MODIFIED:20241017T182030Z
UID:7835-1728640800-1728662400@www.vdh.virginia.gov
SUMMARY:Waymakers Foundation - Food Distribution *Only for individuals with disabilities\, senior\, and pregnant women*
DESCRIPTION:
URL:https://www.vdh.virginia.gov/health-equity/event/waymakers-foundation-food-distribution-only-for-individuals-with-disabilities-senior-and-pregnant-women/
LOCATION:VA
END:VEVENT
BEGIN:VEVENT
DTSTART;TZID=America/New_York:20241011T143000
DTEND;TZID=America/New_York:20241011T163000
DTSTAMP:20260423T012650
CREATED:20241017T182010Z
LAST-MODIFIED:20241017T182010Z
UID:7822-1728657000-1728664200@www.vdh.virginia.gov
SUMMARY:KHS Internship Fair
DESCRIPTION:
URL:https://www.vdh.virginia.gov/health-equity/event/khs-internship-fair/
LOCATION:VA
END:VEVENT
END:VCALENDAR