BEGIN:VCALENDAR
VERSION:2.0
PRODID:-//Health Equity - ECPv6.15.20//NONSGML v1.0//EN
CALSCALE:GREGORIAN
METHOD:PUBLISH
X-WR-CALNAME:Health Equity
X-ORIGINAL-URL:https://www.vdh.virginia.gov/health-equity
X-WR-CALDESC:Events for Health Equity
REFRESH-INTERVAL;VALUE=DURATION:PT1H
X-Robots-Tag:noindex
X-PUBLISHED-TTL:PT1H
BEGIN:VTIMEZONE
TZID:America/New_York
BEGIN:DAYLIGHT
TZOFFSETFROM:-0500
TZOFFSETTO:-0400
TZNAME:EDT
DTSTART:20230312T070000
END:DAYLIGHT
BEGIN:STANDARD
TZOFFSETFROM:-0400
TZOFFSETTO:-0500
TZNAME:EST
DTSTART:20231105T060000
END:STANDARD
BEGIN:DAYLIGHT
TZOFFSETFROM:-0500
TZOFFSETTO:-0400
TZNAME:EDT
DTSTART:20240310T070000
END:DAYLIGHT
BEGIN:STANDARD
TZOFFSETFROM:-0400
TZOFFSETTO:-0500
TZNAME:EST
DTSTART:20241103T060000
END:STANDARD
BEGIN:DAYLIGHT
TZOFFSETFROM:-0500
TZOFFSETTO:-0400
TZNAME:EDT
DTSTART:20250309T070000
END:DAYLIGHT
BEGIN:STANDARD
TZOFFSETFROM:-0400
TZOFFSETTO:-0500
TZNAME:EST
DTSTART:20251102T060000
END:STANDARD
END:VTIMEZONE
BEGIN:VEVENT
DTSTART;TZID=America/New_York:20241012T080000
DTEND;TZID=America/New_York:20241012T120000
DTSTAMP:20260423T012651
CREATED:20241017T182215Z
LAST-MODIFIED:20241017T182215Z
UID:7870-1728720000-1728734400@www.vdh.virginia.gov
SUMMARY:Broad Rock Farmers Market - Second Baptist Church
DESCRIPTION:
URL:https://www.vdh.virginia.gov/health-equity/event/broad-rock-farmers-market-second-baptist-church-21/
LOCATION:VA
END:VEVENT
BEGIN:VEVENT
DTSTART;TZID=America/New_York:20241012T090000
DTEND;TZID=America/New_York:20241012T153000
DTSTAMP:20260423T012651
CREATED:20241017T182058Z
LAST-MODIFIED:20241017T182058Z
UID:7841-1728723600-1728747000@www.vdh.virginia.gov
SUMMARY:Calvary Evangelical Baptist Church - Healthy Living
DESCRIPTION:
URL:https://www.vdh.virginia.gov/health-equity/event/calvary-evangelical-baptist-church-healthy-living/
LOCATION:VA
END:VEVENT
END:VCALENDAR