BEGIN:VCALENDAR
VERSION:2.0
PRODID:-//Health Equity - ECPv6.15.20//NONSGML v1.0//EN
CALSCALE:GREGORIAN
METHOD:PUBLISH
X-WR-CALNAME:Health Equity
X-ORIGINAL-URL:https://www.vdh.virginia.gov/health-equity
X-WR-CALDESC:Events for Health Equity
REFRESH-INTERVAL;VALUE=DURATION:PT1H
X-Robots-Tag:noindex
X-PUBLISHED-TTL:PT1H
BEGIN:VTIMEZONE
TZID:America/New_York
BEGIN:DAYLIGHT
TZOFFSETFROM:-0500
TZOFFSETTO:-0400
TZNAME:EDT
DTSTART:20230312T070000
END:DAYLIGHT
BEGIN:STANDARD
TZOFFSETFROM:-0400
TZOFFSETTO:-0500
TZNAME:EST
DTSTART:20231105T060000
END:STANDARD
BEGIN:DAYLIGHT
TZOFFSETFROM:-0500
TZOFFSETTO:-0400
TZNAME:EDT
DTSTART:20240310T070000
END:DAYLIGHT
BEGIN:STANDARD
TZOFFSETFROM:-0400
TZOFFSETTO:-0500
TZNAME:EST
DTSTART:20241103T060000
END:STANDARD
BEGIN:DAYLIGHT
TZOFFSETFROM:-0500
TZOFFSETTO:-0400
TZNAME:EDT
DTSTART:20250309T070000
END:DAYLIGHT
BEGIN:STANDARD
TZOFFSETFROM:-0400
TZOFFSETTO:-0500
TZNAME:EST
DTSTART:20251102T060000
END:STANDARD
END:VTIMEZONE
BEGIN:VEVENT
DTSTART;TZID=America/New_York:20241023T100000
DTEND;TZID=America/New_York:20241023T130000
DTSTAMP:20260423T170715
CREATED:20241017T182400Z
LAST-MODIFIED:20241017T182400Z
UID:7904-1729677600-1729688400@www.vdh.virginia.gov
SUMMARY:Literacy Lab - Bethel Church of God in Christ
DESCRIPTION:
URL:https://www.vdh.virginia.gov/health-equity/event/literacy-lab-bethel-church-of-god-in-christ-51/
LOCATION:VA
END:VEVENT
BEGIN:VEVENT
DTSTART;TZID=America/New_York:20241023T100000
DTEND;TZID=America/New_York:20241023T160000
DTSTAMP:20260423T170715
CREATED:20241017T182015Z
LAST-MODIFIED:20241017T182015Z
UID:7830-1729677600-1729699200@www.vdh.virginia.gov
SUMMARY:Waymakers Foundation - Food Distribution
DESCRIPTION:
URL:https://www.vdh.virginia.gov/health-equity/event/waymakers-foundation-food-distribution-8/
LOCATION:VA
END:VEVENT
BEGIN:VEVENT
DTSTART;TZID=America/New_York:20241023T170000
DTEND;TZID=America/New_York:20241023T183000
DTSTAMP:20260423T170715
CREATED:20241017T182130Z
LAST-MODIFIED:20241017T182130Z
UID:7854-1729702800-1729708200@www.vdh.virginia.gov
SUMMARY:Waymakers Foundation - Bailando en Familia: Vamos a Bailar con Salsa Guy
DESCRIPTION:
URL:https://www.vdh.virginia.gov/health-equity/event/waymakers-foundation-bailando-en-familia-vamos-a-bailar-con-salsa-guy-17/
LOCATION:VA
END:VEVENT
BEGIN:VEVENT
DTSTART;TZID=America/New_York:20241023T180000
DTEND;TZID=America/New_York:20241023T194500
DTSTAMP:20260423T170715
CREATED:20241017T182530Z
LAST-MODIFIED:20241017T182530Z
UID:7933-1729706400-1729712700@www.vdh.virginia.gov
SUMMARY:It's All About Youth - St. John COGIC
DESCRIPTION:
URL:https://www.vdh.virginia.gov/health-equity/event/its-all-about-youth-st-john-cogic-32/
LOCATION:VA
END:VEVENT
END:VCALENDAR