BEGIN:VCALENDAR
VERSION:2.0
PRODID:-//Health Equity - ECPv6.15.20//NONSGML v1.0//EN
CALSCALE:GREGORIAN
METHOD:PUBLISH
X-WR-CALNAME:Health Equity
X-ORIGINAL-URL:https://www.vdh.virginia.gov/health-equity
X-WR-CALDESC:Events for Health Equity
REFRESH-INTERVAL;VALUE=DURATION:PT1H
X-Robots-Tag:noindex
X-PUBLISHED-TTL:PT1H
BEGIN:VTIMEZONE
TZID:America/New_York
BEGIN:DAYLIGHT
TZOFFSETFROM:-0500
TZOFFSETTO:-0400
TZNAME:EDT
DTSTART:20230312T070000
END:DAYLIGHT
BEGIN:STANDARD
TZOFFSETFROM:-0400
TZOFFSETTO:-0500
TZNAME:EST
DTSTART:20231105T060000
END:STANDARD
BEGIN:DAYLIGHT
TZOFFSETFROM:-0500
TZOFFSETTO:-0400
TZNAME:EDT
DTSTART:20240310T070000
END:DAYLIGHT
BEGIN:STANDARD
TZOFFSETFROM:-0400
TZOFFSETTO:-0500
TZNAME:EST
DTSTART:20241103T060000
END:STANDARD
BEGIN:DAYLIGHT
TZOFFSETFROM:-0500
TZOFFSETTO:-0400
TZNAME:EDT
DTSTART:20250309T070000
END:DAYLIGHT
BEGIN:STANDARD
TZOFFSETFROM:-0400
TZOFFSETTO:-0500
TZNAME:EST
DTSTART:20251102T060000
END:STANDARD
END:VTIMEZONE
BEGIN:VEVENT
DTSTART;TZID=America/New_York:20241026T080000
DTEND;TZID=America/New_York:20241026T120000
DTSTAMP:20260423T012648
CREATED:20241017T182229Z
LAST-MODIFIED:20241017T182229Z
UID:7872-1729929600-1729944000@www.vdh.virginia.gov
SUMMARY:Broad Rock Farmers Market - Second Baptist Church
DESCRIPTION:
URL:https://www.vdh.virginia.gov/health-equity/event/broad-rock-farmers-market-second-baptist-church-23/
LOCATION:VA
END:VEVENT
BEGIN:VEVENT
DTSTART;TZID=America/New_York:20241026T093000
DTEND;TZID=America/New_York:20241026T120000
DTSTAMP:20260423T012648
CREATED:20241017T182043Z
LAST-MODIFIED:20241017T182043Z
UID:7836-1729935000-1729944000@www.vdh.virginia.gov
SUMMARY:Healing Faith Ministries Flu/COVID Event
DESCRIPTION:
URL:https://www.vdh.virginia.gov/health-equity/event/healing-faith-ministries-flu-covid-event/
LOCATION:VA
END:VEVENT
BEGIN:VEVENT
DTSTART;TZID=America/New_York:20241026T100000
DTEND;TZID=America/New_York:20241026T130000
DTSTAMP:20260423T012648
CREATED:20241017T182010Z
LAST-MODIFIED:20241017T182010Z
UID:7821-1729936800-1729947600@www.vdh.virginia.gov
SUMMARY:FreeHorse Art - The Healthy Heard October Workshops
DESCRIPTION:
URL:https://www.vdh.virginia.gov/health-equity/event/freehorse-art-the-healthy-heard-october-workshops/
LOCATION:VA
END:VEVENT
END:VCALENDAR