BEGIN:VCALENDAR
VERSION:2.0
PRODID:-//Health Equity - ECPv6.15.20//NONSGML v1.0//EN
CALSCALE:GREGORIAN
METHOD:PUBLISH
X-WR-CALNAME:Health Equity
X-ORIGINAL-URL:https://www.vdh.virginia.gov/health-equity
X-WR-CALDESC:Events for Health Equity
REFRESH-INTERVAL;VALUE=DURATION:PT1H
X-Robots-Tag:noindex
X-PUBLISHED-TTL:PT1H
BEGIN:VTIMEZONE
TZID:America/New_York
BEGIN:DAYLIGHT
TZOFFSETFROM:-0500
TZOFFSETTO:-0400
TZNAME:EDT
DTSTART:20230312T070000
END:DAYLIGHT
BEGIN:STANDARD
TZOFFSETFROM:-0400
TZOFFSETTO:-0500
TZNAME:EST
DTSTART:20231105T060000
END:STANDARD
BEGIN:DAYLIGHT
TZOFFSETFROM:-0500
TZOFFSETTO:-0400
TZNAME:EDT
DTSTART:20240310T070000
END:DAYLIGHT
BEGIN:STANDARD
TZOFFSETFROM:-0400
TZOFFSETTO:-0500
TZNAME:EST
DTSTART:20241103T060000
END:STANDARD
BEGIN:DAYLIGHT
TZOFFSETFROM:-0500
TZOFFSETTO:-0400
TZNAME:EDT
DTSTART:20250309T070000
END:DAYLIGHT
BEGIN:STANDARD
TZOFFSETFROM:-0400
TZOFFSETTO:-0500
TZNAME:EST
DTSTART:20251102T060000
END:STANDARD
END:VTIMEZONE
BEGIN:VEVENT
DTSTART;TZID=America/New_York:20241113T100000
DTEND;TZID=America/New_York:20241113T130000
DTSTAMP:20260423T043222
CREATED:20241017T182415Z
LAST-MODIFIED:20241017T182415Z
UID:7910-1731492000-1731502800@www.vdh.virginia.gov
SUMMARY:Literacy Lab - Bethel Church of God in Christ
DESCRIPTION:
URL:https://www.vdh.virginia.gov/health-equity/event/literacy-lab-bethel-church-of-god-in-christ-57/
LOCATION:VA
END:VEVENT
BEGIN:VEVENT
DTSTART;TZID=America/New_York:20241113T170000
DTEND;TZID=America/New_York:20241113T183000
DTSTAMP:20260423T043222
CREATED:20241017T182144Z
LAST-MODIFIED:20241028T155603Z
UID:7857-1731517200-1731522600@www.vdh.virginia.gov
SUMMARY:Waymakers Foundation - Bailando en Familia: Vamos a Bailar con Salsa Guy
DESCRIPTION:7106 Hull Street Road Richmond VA 23235
URL:https://www.vdh.virginia.gov/health-equity/event/waymakers-foundation-bailando-en-familia-vamos-a-bailar-con-salsa-guy-20/
LOCATION:VA
END:VEVENT
BEGIN:VEVENT
DTSTART;TZID=America/New_York:20241113T180000
DTEND;TZID=America/New_York:20241113T194500
DTSTAMP:20260423T043222
CREATED:20241017T182545Z
LAST-MODIFIED:20241017T182545Z
UID:7938-1731520800-1731527100@www.vdh.virginia.gov
SUMMARY:It's All About Youth - St. John COGIC
DESCRIPTION:
URL:https://www.vdh.virginia.gov/health-equity/event/its-all-about-youth-st-john-cogic-37/
LOCATION:VA
END:VEVENT
END:VCALENDAR