BEGIN:VCALENDAR
VERSION:2.0
PRODID:-//Health Equity - ECPv6.15.20//NONSGML v1.0//EN
CALSCALE:GREGORIAN
METHOD:PUBLISH
X-WR-CALNAME:Health Equity
X-ORIGINAL-URL:https://www.vdh.virginia.gov/health-equity
X-WR-CALDESC:Events for Health Equity
REFRESH-INTERVAL;VALUE=DURATION:PT1H
X-Robots-Tag:noindex
X-PUBLISHED-TTL:PT1H
BEGIN:VTIMEZONE
TZID:America/New_York
BEGIN:DAYLIGHT
TZOFFSETFROM:-0500
TZOFFSETTO:-0400
TZNAME:EDT
DTSTART:20240310T070000
END:DAYLIGHT
BEGIN:STANDARD
TZOFFSETFROM:-0400
TZOFFSETTO:-0500
TZNAME:EST
DTSTART:20241103T060000
END:STANDARD
BEGIN:DAYLIGHT
TZOFFSETFROM:-0500
TZOFFSETTO:-0400
TZNAME:EDT
DTSTART:20250309T070000
END:DAYLIGHT
BEGIN:STANDARD
TZOFFSETFROM:-0400
TZOFFSETTO:-0500
TZNAME:EST
DTSTART:20251102T060000
END:STANDARD
BEGIN:DAYLIGHT
TZOFFSETFROM:-0500
TZOFFSETTO:-0400
TZNAME:EDT
DTSTART:20260308T070000
END:DAYLIGHT
BEGIN:STANDARD
TZOFFSETFROM:-0400
TZOFFSETTO:-0500
TZNAME:EST
DTSTART:20261101T060000
END:STANDARD
END:VTIMEZONE
BEGIN:VEVENT
DTSTART;TZID=America/New_York:20250113T173000
DTEND;TZID=America/New_York:20250519T190000
DTSTAMP:20260422T223312
CREATED:20250205T200252Z
LAST-MODIFIED:20250205T200252Z
UID:8385-1736789400-1747681200@www.vdh.virginia.gov
SUMMARY:Casa Latina de los Latinos Virginia | Clases De Nutricion
DESCRIPTION:January 13 and 27\, 2025 5:30 pm – 7:00 pm \nFebruary 3 and 17\, 2025 5:30 pm – 7:00 pm \nMarch 3 and 17\, 2025 5:30 pm – 7:00 pm \nApril 7 and 21\, 2025 5:30 pm – 7:00 pm \nMay 5 and 19\, 2025 5:30 pm – 7:00 pm
URL:https://www.vdh.virginia.gov/health-equity/event/casa-latina-de-los-latinos-virginia-clases-de-nutricion/
LOCATION:3110 Pioneer Rd. NW. Roanoke\, 24012\, 3110 Pioneer Rd.\, NW. Roanoke\, VA\, 24012\, United States
END:VEVENT
BEGIN:VEVENT
DTSTART;TZID=America/New_York:20250114T173000
DTEND;TZID=America/New_York:20250204T190000
DTSTAMP:20260422T223312
CREATED:20250205T195827Z
LAST-MODIFIED:20250205T195827Z
UID:8382-1736875800-1738695600@www.vdh.virginia.gov
SUMMARY:Casa Latina de los Latinos Virginia | DMV Preparacion para el Examen Escrito
DESCRIPTION:Every Tuesday
URL:https://www.vdh.virginia.gov/health-equity/event/casa-latina-de-los-latinos-virginia-dmv-preparacion-para-el-examen-escrito/
LOCATION:3110 Pioneer Rd. NW. Roanoke\, 24012\, 3110 Pioneer Rd.\, NW. Roanoke\, VA\, 24012\, United States
END:VEVENT
BEGIN:VEVENT
DTSTART;TZID=America/New_York:20250204T120000
DTEND;TZID=America/New_York:20250204T140000
DTSTAMP:20260422T223312
CREATED:20250127T145007Z
LAST-MODIFIED:20250127T145329Z
UID:8321-1738670400-1738677600@www.vdh.virginia.gov
SUMMARY:Waymakers Foundation Community Resource Fair (Partner Registration Only) Open to the Public
DESCRIPTION:🌟 Connect. Support. Empower. 🌟 \nJoin Waymakers Foundation every month for a day dedicated to providing valuable resources and services to underserved Latin communities and Newcomers in RVA. \n📍 Location: Beulah Recreation Center\n6901 Hopkins Rd\, North Chesterfield\, VA\, 23234 \n📅 Event Time:\nOpen to the Public: 12 PM – 2 PM\nPartner Setup: Arrive 30-45 minutes early to prepare \nServices Provided:\n✅ Food Assistance\n✅ Health Services\n✅ Educational Resources\n✅ Job Opportunities\n✅ Legal Help\n✅ Tax Assistance\n✅ Domestic Violence Support\n✅ Banking Information\n✅ And More! \nSpace is limited\, so don’t wait—register today! \nFor cancellations or questions\, email: natasha@waymakers-foundation.org
URL:https://www.vdh.virginia.gov/health-equity/event/waymakers-community-resource-fair-partner-registration-only-open-to-the-public/
LOCATION:Beulah Recreation Center\, 6901 Hopkins Rd.\, North Chesterfield\, VA\, 23234\, United States
END:VEVENT
END:VCALENDAR